BEGIN:VCALENDAR
VERSION:2.0
PRODID:-//Pure Balance - Mind Body | Wellness Center in Northwest Arkansas - ECPv6.15.11//NONSGML v1.0//EN
CALSCALE:GREGORIAN
METHOD:PUBLISH
X-ORIGINAL-URL:https://dev.purebalancemb.com
X-WR-CALDESC:Events for Pure Balance - Mind Body | Wellness Center in Northwest Arkansas
REFRESH-INTERVAL;VALUE=DURATION:PT1H
X-Robots-Tag:noindex
X-PUBLISHED-TTL:PT1H
BEGIN:VTIMEZONE
TZID:UTC
BEGIN:STANDARD
TZOFFSETFROM:+0000
TZOFFSETTO:+0000
TZNAME:UTC
DTSTART:20240101T000000
END:STANDARD
END:VTIMEZONE
BEGIN:VEVENT
DTSTART;TZID=UTC:20251203T130000
DTEND;TZID=UTC:20251203T140000
DTSTAMP:20260422T104942
CREATED:20250117T174913Z
LAST-MODIFIED:20250117T175545Z
UID:1020-1764766800-1764770400@dev.purebalancemb.com
SUMMARY:Nutrition and Mental Health Class
DESCRIPTION:Pure Balance is happy to partner with Mary Williams\, owner of the holistic nutritional therapy practice Mary Will Nourish\, to provide a FREE nutrition class in our clinic the 1st Wednesday of every month from 1-2 PM. \nMary is a trained registered nurse and Functional Nutritional Therapy Practitioner.Â  \nMaryâ€™s class will present on \n\nThe connections between our diet and mental health\nEssential dietary changes known to impact and improve mental health\nOptimizing nutrition on a budget\n\nSign up for class here: https://tinyurl.com/PureBalanceNutrition \nYou can learn more about Mary here: https://www.marywillnourish.com/Â 
URL:https://dev.purebalancemb.com/event/nutrition-and-mental-health-class-10/
CATEGORIES:Classes
END:VEVENT
BEGIN:VEVENT
DTSTART;TZID=UTC:20251105T130000
DTEND;TZID=UTC:20251105T140000
DTSTAMP:20260422T104942
CREATED:20250117T174804Z
LAST-MODIFIED:20250117T175602Z
UID:1019-1762347600-1762351200@dev.purebalancemb.com
SUMMARY:Nutrition and Mental Health Class
DESCRIPTION:Pure Balance is happy to partner with Mary Williams\, owner of the holistic nutritional therapy practice Mary Will Nourish\, to provide a FREE nutrition class in our clinic the 1st Wednesday of every month from 1-2 PM. \nMary is a trained registered nurse and Functional Nutritional Therapy Practitioner.Â  \nMaryâ€™s class will present on \n\nThe connections between our diet and mental health\nEssential dietary changes known to impact and improve mental health\nOptimizing nutrition on a budget\n\nSign up for class here: https://tinyurl.com/PureBalanceNutrition \nYou can learn more about Mary here: https://www.marywillnourish.com/Â 
URL:https://dev.purebalancemb.com/event/nutrition-and-mental-health-class-9/
LOCATION:3608 Southern Hills Blvd\, 3608 Southern Hills Blvd\, Rogers\, AR\, 72758\, United States
CATEGORIES:Classes
END:VEVENT
BEGIN:VEVENT
DTSTART;TZID=UTC:20251001T130000
DTEND;TZID=UTC:20251001T140000
DTSTAMP:20260422T104942
CREATED:20250117T174612Z
LAST-MODIFIED:20250117T175622Z
UID:1017-1759323600-1759327200@dev.purebalancemb.com
SUMMARY:Nutrition and Mental Health Class
DESCRIPTION:Pure Balance is happy to partner with Mary Williams\, owner of the holistic nutritional therapy practice Mary Will Nourish\, to provide a FREE nutrition class in our clinic the 1st Wednesday of every month from 1-2 PM. \nMary is a trained registered nurse and Functional Nutritional Therapy Practitioner.Â  \nMaryâ€™s class will present on \n\nThe connections between our diet and mental health\nEssential dietary changes known to impact and improve mental health\nOptimizing nutrition on a budget\n\nSign up for class here: https://tinyurl.com/PureBalanceNutrition \nYou can learn more about Mary here: https://www.marywillnourish.com/Â 
URL:https://dev.purebalancemb.com/event/nutrition-and-mental-health-class-7/
CATEGORIES:Classes
END:VEVENT
BEGIN:VEVENT
DTSTART;TZID=UTC:20250903T130000
DTEND;TZID=UTC:20250903T140000
DTSTAMP:20260422T104942
CREATED:20250117T174713Z
LAST-MODIFIED:20250117T175642Z
UID:1018-1756904400-1756908000@dev.purebalancemb.com
SUMMARY:Nutrition and Mental Health Class
DESCRIPTION:Pure Balance is happy to partner with Mary Williams\, owner of the holistic nutritional therapy practice Mary Will Nourish\, to provide a FREE nutrition class in our clinic the 1st Wednesday of every month from 1-2 PM. \nMary is a trained registered nurse and Functional Nutritional Therapy Practitioner.Â  \nMaryâ€™s class will present on \n\nThe connections between our diet and mental health\nEssential dietary changes known to impact and improve mental health\nOptimizing nutrition on a budget\n\nSign up for class here: https://tinyurl.com/PureBalanceNutrition \nYou can learn more about Mary here: https://www.marywillnourish.com/Â 
URL:https://dev.purebalancemb.com/event/nutrition-and-mental-health-class-8/
LOCATION:3608 Southern Hills Blvd\, 3608 Southern Hills Blvd\, Rogers\, AR\, 72758\, United States
CATEGORIES:Classes
END:VEVENT
BEGIN:VEVENT
DTSTART;TZID=UTC:20250806T080000
DTEND;TZID=UTC:20250806T170000
DTSTAMP:20260422T104942
CREATED:20250117T174507Z
LAST-MODIFIED:20250117T175518Z
UID:1016-1754467200-1754499600@dev.purebalancemb.com
SUMMARY:Nutrition and Mental Health Class
DESCRIPTION:Pure Balance is happy to partner with Mary Williams\, owner of the holistic nutritional therapy practice Mary Will Nourish\, to provide a FREE nutrition class in our clinic the 1st Wednesday of every month from 1-2 PM. \nMary is a trained registered nurse and Functional Nutritional Therapy Practitioner.Â  \nMaryâ€™s class will present on \n\nThe connections between our diet and mental health\nEssential dietary changes known to impact and improve mental health\nOptimizing nutrition on a budget\n\nSign up for class here: https://tinyurl.com/PureBalanceNutrition \nYou can learn more about Mary here: https://www.marywillnourish.com/Â 
URL:https://dev.purebalancemb.com/event/nutrition-and-mental-health-class-6/
CATEGORIES:Classes
END:VEVENT
BEGIN:VEVENT
DTSTART;TZID=UTC:20250702T130000
DTEND;TZID=UTC:20250702T140000
DTSTAMP:20260422T104942
CREATED:20250117T174407Z
LAST-MODIFIED:20250117T175448Z
UID:1015-1751461200-1751464800@dev.purebalancemb.com
SUMMARY:Nutrition and Mental Health Class
DESCRIPTION:Pure Balance is happy to partner with Mary Williams\, owner of the holistic nutritional therapy practice Mary Will Nourish\, to provide a FREE nutrition class in our clinic the 1st Wednesday of every month from 1-2 PM. \nMary is a trained registered nurse and Functional Nutritional Therapy Practitioner.Â  \nMaryâ€™s class will present on \n\nThe connections between our diet and mental health\nEssential dietary changes known to impact and improve mental health\nOptimizing nutrition on a budget\n\nSign up for class here: https://tinyurl.com/PureBalanceNutrition \nYou can learn more about Mary here: https://www.marywillnourish.com/Â 
URL:https://dev.purebalancemb.com/event/nutrition-and-mental-health-class-5/
CATEGORIES:Classes
END:VEVENT
BEGIN:VEVENT
DTSTART;TZID=UTC:20250604T130000
DTEND;TZID=UTC:20250604T140000
DTSTAMP:20260422T104942
CREATED:20250117T174323Z
LAST-MODIFIED:20250117T175425Z
UID:1014-1749042000-1749045600@dev.purebalancemb.com
SUMMARY:Nutrition and Mental Health Class
DESCRIPTION:Pure Balance is happy to partner with Mary Williams\, owner of the holistic nutritional therapy practice Mary Will Nourish\, to provide a FREE nutrition class in our clinic the 1st Wednesday of every month from 1-2 PM. \nMary is a trained registered nurse and Functional Nutritional Therapy Practitioner.Â  \nMaryâ€™s class will present on \n\nThe connections between our diet and mental health\nEssential dietary changes known to impact and improve mental health\nOptimizing nutrition on a budget\n\nSign up for class here: https://tinyurl.com/PureBalanceNutrition \nYou can learn more about Mary here: https://www.marywillnourish.com/Â 
URL:https://dev.purebalancemb.com/event/nutrition-and-mental-health-class-4/
LOCATION:3608 Southern Hills Blvd\, 3608 Southern Hills Blvd\, Rogers\, AR\, 72758\, United States
CATEGORIES:Classes
END:VEVENT
BEGIN:VEVENT
DTSTART;TZID=UTC:20250507T130000
DTEND;TZID=UTC:20250507T140000
DTSTAMP:20260422T104942
CREATED:20250117T174155Z
LAST-MODIFIED:20250117T175358Z
UID:1013-1746622800-1746626400@dev.purebalancemb.com
SUMMARY:Nutrition and Mental Health Class
DESCRIPTION:Pure Balance is happy to partner with Mary Williams\, owner of the holistic nutritional therapy practice Mary Will Nourish\, to provide a FREE nutrition class in our clinic the 1st Wednesday of every month from 1-2 PM. \nMary is a trained registered nurse and Functional Nutritional Therapy Practitioner.Â  \nMaryâ€™s class will present on \n\nThe connections between our diet and mental health\nEssential dietary changes known to impact and improve mental health\nOptimizing nutrition on a budget\n\nSign up for class here: https://tinyurl.com/PureBalanceNutrition \nYou can learn more about Mary here: https://www.marywillnourish.com/Â 
URL:https://dev.purebalancemb.com/event/nutrition-and-mental-health-class-3/
LOCATION:3608 Southern Hills Blvd\, 3608 Southern Hills Blvd\, Rogers\, AR\, 72758\, United States
CATEGORIES:Classes
END:VEVENT
BEGIN:VEVENT
DTSTART;TZID=UTC:20250402T130000
DTEND;TZID=UTC:20250402T140000
DTSTAMP:20260422T104942
CREATED:20250117T174051Z
LAST-MODIFIED:20250117T175338Z
UID:1012-1743598800-1743602400@dev.purebalancemb.com
SUMMARY:Nutrition and Mental Health Class
DESCRIPTION:Pure Balance is happy to partner with Mary Williams\, owner of the holistic nutritional therapy practice Mary Will Nourish\, to provide a FREE nutrition class in our clinic the 1st Wednesday of every month from 1-2 PM. \nMary is a trained registered nurse and Functional Nutritional Therapy Practitioner.Â  \nMaryâ€™s class will present on \n\nThe connections between our diet and mental health\nEssential dietary changes known to impact and improve mental health\nOptimizing nutrition on a budget\n\nSign up for class here: https://tinyurl.com/PureBalanceNutrition \nYou can learn more about Mary here: https://www.marywillnourish.com/Â 
URL:https://dev.purebalancemb.com/event/nutrition-and-mental-health-class-2/
CATEGORIES:Classes
END:VEVENT
BEGIN:VEVENT
DTSTART;TZID=UTC:20250305T130000
DTEND;TZID=UTC:20250305T140000
DTSTAMP:20260422T104942
CREATED:20250117T173943Z
LAST-MODIFIED:20250117T175301Z
UID:1011-1741179600-1741183200@dev.purebalancemb.com
SUMMARY:Nutrition and Mental Health Class
DESCRIPTION:Pure Balance is happy to partner with Mary Williams\, owner of the holistic nutritional therapy practice Mary Will Nourish\, to provide a FREE nutrition class in our clinic the 1st Wednesday of every month from 1-2 PM. \nMary is a trained registered nurse and Functional Nutritional Therapy Practitioner.Â  \nMaryâ€™s class will present on \n\nThe connections between our diet and mental health\nEssential dietary changes known to impact and improve mental health\nOptimizing nutrition on a budget\n\nSign up for class here: https://tinyurl.com/PureBalanceNutrition \nYou can learn more about Mary here: https://www.marywillnourish.com/Â 
URL:https://dev.purebalancemb.com/event/nutrition-and-mental-health-class/
LOCATION:3608 Southern Hills Blvd\, 3608 Southern Hills Blvd\, Rogers\, AR\, 72758\, United States
CATEGORIES:Classes
END:VEVENT
BEGIN:VEVENT
DTSTART;TZID=UTC:20250205T130000
DTEND;TZID=UTC:20250205T140000
DTSTAMP:20260422T104942
CREATED:20250117T173801Z
LAST-MODIFIED:20250130T213206Z
UID:1009-1738760400-1738764000@dev.purebalancemb.com
SUMMARY:Nutrition & Mental Health Class
DESCRIPTION:Pure Balance is happy to partner with Mary Williams\, owner of the holistic nutritional therapy practice Mary Will Nourish\, to provide a FREE nutrition class in our clinic the 1st Wednesday of every month from 1-2 PM. \nMary is a trained registered nurse and Functional Nutritional Therapy Practitioner.Â  \nMaryâ€™s class will present on \n\nThe connections between our diet and mental health\nEssential dietary changes known to impact and improve mental health\nOptimizing nutrition on a budget\n\nSign up for class here: https://tinyurl.com/PureBalanceNutrition \nYou can learn more about Mary here: https://www.marywillnourish.com/Â 
URL:https://dev.purebalancemb.com/event/nutrition-mental-health-class/
LOCATION:3608 Southern Hills Blvd\, 3608 Southern Hills Blvd\, Rogers\, AR\, 72758\, United States
CATEGORIES:Classes
ATTACH;FMTTYPE=image/avif:https://dev.purebalancemb.com/wp-content/uploads/2025/01/Nutritional-Cooking.avif
END:VEVENT
END:VCALENDAR